BEGIN:VCALENDAR
CALSCALE:GREGORIAN
METHOD:PUBLISH
VERSION:2.0
PRODID:-//iCalWriter OpenSource Project//iCalWriter 0.8.1//EN
BEGIN:VEVENT
DTSTAMP:20260422T174914Z
UID:17768801542QZb@www.stadt-barby.de
DTSTART:20260425T150000
DTEND;VALUE=DATE:20260425
SUMMARY:Stadtrundgang durch Barby (Elbe)
DESCRIPTION:Der Rundgang wird auf unterhaltsame Weise durch die Stadt Barby und das Elbvorland führen.
Unkostenbeitrag pro Person: 2,00 €
Die Einnahmen gehen an den Kirchbauverein Barby e.V. und werden für das Projekt "Glockenreparatur der St. Marienkirche" verwendet.
LOCATION:Marktplatz Barby 39249 Barby
CATEGORIES:Familien und Kinder,Kunst/ Kultur und Literatur
URL:https://www.stadt-barby.de/de/veranstaltungsplan/event/22826,1084/stadtrundgang-durch-barby-elbe-25-04-2026.html
ATTACH:https://www.stadt-barby.de/de/datei/anzeigen/id/22827,1084/rundgang_barby_25_04_2026.jpg
END:VEVENT
END:VCALENDAR
