BEGIN:VCALENDAR
CALSCALE:GREGORIAN
METHOD:PUBLISH
VERSION:2.0
PRODID:-//iCalWriter OpenSource Project//iCalWriter 0.8.1//EN
BEGIN:VEVENT
DTSTAMP:20260421T143110Z
UID:1776781870q2ym@www.stadt-barby.de
DTSTART:20260510T150000
DTEND;VALUE=DATE:20260510
SUMMARY:Politisches Kabarett: Die Hengstmann-Brüder im Cinema Barby
DESCRIPTION:
LOCATION:Cinema Barby 
		39249 Barby / Barby (Elbe)
	
CATEGORIES:Bühne/ Theater
URL:https://www.stadt-barby.de/de/veranstaltungsplan/event/22785,1084/politisches-kabarett-die-hengstmann-brueder-im-cinema-barby-10-05-2026.html
ATTACH:https://www.stadt-barby.de/de/datei/anzeigen/id/22786,1084/cinema_barby_haus.jpg
END:VEVENT
END:VCALENDAR
