BEGIN:VCALENDAR
CALSCALE:GREGORIAN
METHOD:PUBLISH
VERSION:2.0
PRODID:-//iCalWriter OpenSource Project//iCalWriter 0.8.1//EN
BEGIN:VEVENT
DTSTAMP:20260421T124950Z
UID:1776775790ccWx@www.stadt-barby.de
DTSTART:20260509T200000
DTEND;VALUE=DATE:20260509
SUMMARY:Abendfilm
DESCRIPTION:Eine Satirische Komödie
Eintritt frei
FSK 6
LOCATION:Cinema Barby 
		39249 Barby / Barby (Elbe)
	
CATEGORIES:Bühne/ Theater
URL:https://www.stadt-barby.de/de/veranstaltungsplan/event/22777,1084/abendfilm-09-05-2026.html
ATTACH:https://www.stadt-barby.de/de/datei/anzeigen/id/22778,1084/cinema_barby_haus.jpg
END:VEVENT
END:VCALENDAR
