BEGIN:VCALENDAR
CALSCALE:GREGORIAN
METHOD:PUBLISH
VERSION:2.0
PRODID:-//iCalWriter OpenSource Project//iCalWriter 0.8.1//EN
BEGIN:VEVENT
DTSTAMP:20260421T124258Z
UID:1776775378XOlz@www.stadt-barby.de
DTSTART:20260509T150000
DTEND;VALUE=DATE:20260509
SUMMARY:Abenteuer in Norwegen
DESCRIPTION:Abenteuer Norwegen
Von Süd nach Nord und Lofoten
Kaffee und Kuchen 
Eintritt frei(Um eine Spende für Kaffee und Kuchen wird gebeten)
LOCATION:Cinema Barby 
		39249 Barby / Barby (Elbe)
	
CATEGORIES:Bühne/ Theater
URL:https://www.stadt-barby.de/de/veranstaltungsplan/event/22770,1084/abenteuer-in-norwegen-09-05-2026.html
ATTACH:https://www.stadt-barby.de/de/datei/anzeigen/id/22774,1084/cinema_09.05.2026.jpg
END:VEVENT
END:VCALENDAR
