BEGIN:VCALENDAR
CALSCALE:GREGORIAN
METHOD:PUBLISH
VERSION:2.0
PRODID:-//iCalWriter OpenSource Project//iCalWriter 0.8.1//EN
BEGIN:VEVENT
DTSTAMP:20260425T181833Z
UID:1777141113rPPl@www.stadt-barby.de
DTSTART:20260430T183000
DTEND;VALUE=DATE:20260430
SUMMARY:Maibaumfest 2026
DESCRIPTION:18:30 Uhr Maibaum-Richten auf dem Markt.
Anschließend kleiner Umzug zur Kulturhalle.
Dort gibt es Gemütlichkeit nach Barbyer Art mit Musik und Tanz sowie Speis' und Trank.
LOCATION:Marktplatz Barby 39249 Barby
Kulturhalle 
		39249 Barby / Barby (Elbe)
	
CATEGORIES:Musik,Sonstiges
URL:https://www.stadt-barby.de/de/veranstaltungsplan/event/22571,1084/maibaumfest-2026-30-04-2026.html
ATTACH:https://www.stadt-barby.de/de/datei/anzeigen/id/22572,1084/30.04.26_maibaumfest_2026.jpg
END:VEVENT
END:VCALENDAR
