BEGIN:VCALENDAR
CALSCALE:GREGORIAN
METHOD:PUBLISH
VERSION:2.0
PRODID:-//iCalWriter OpenSource Project//iCalWriter 0.8.1//EN
BEGIN:VEVENT
DTSTAMP:20260425T182552Z
UID:1777141552y2de@www.stadt-barby.de
DTSTART:20260502T200000
DTEND;VALUE=DATE:20260502
SUMMARY:Abendführungen 2026
DESCRIPTION:Erwachsene: 7,00 EUR p.P. / 7-17 Jahre: 3,00 EUR p.P.
 
Eine Voranmeldung ist erforderlich. 
Anmeldungen über das Touristinformationszentrum: 03471 / 684 624 710 oder per E-Mail unter fuehrungen@kreis-slk.de
LOCATION:Ringheiligtum Pömmelte 
		39249 Barby / Pömmelte
	
CATEGORIES:Sonstiges
URL:https://www.stadt-barby.de/de/veranstaltungsplan/event/22315,1084/abendfuehrungen-2026-02-05-2026.html
ATTACH:https://www.stadt-barby.de/de/datei/anzeigen/id/22316,1084/02.05.-24.10._rht_poemmelte_abendauffuehrungen.png
END:VEVENT
END:VCALENDAR
