BEGIN:VCALENDAR
CALSCALE:GREGORIAN
METHOD:PUBLISH
VERSION:2.0
PRODID:-//iCalWriter OpenSource Project//iCalWriter 0.8.1//EN
BEGIN:VEVENT
DTSTAMP:20260421T085212Z
UID:1776761532saZP@www.stadt-barby.de
DTSTART:20250426T200000
DTEND;VALUE=DATE:20250426
SUMMARY:Musikfilm im April
DESCRIPTION:Der Eintritt ist frei / FSK 12
LOCATION:Cinema Barby 
		39249 Barby / Barby (Elbe)
	
CATEGORIES:Bühne/ Theater,Sonstiges
URL:https://www.stadt-barby.de/de/veranstaltungsplan/event/21018,1084/musikfilm-im-april-26-04-2025.html
ATTACH:https://www.stadt-barby.de/de/datei/anzeigen/id/21019,1084/cinema_barby_haus.jpg
END:VEVENT
END:VCALENDAR
