BEGIN:VCALENDAR
CALSCALE:GREGORIAN
METHOD:PUBLISH
VERSION:2.0
PRODID:-//iCalWriter OpenSource Project//iCalWriter 0.8.1//EN
BEGIN:VEVENT
DTSTAMP:20260426T010545Z
UID:1777165545Yfx1@www.stadt-barby.de
DTSTART:20240928T140000
DTEND;VALUE=DATE:20240928
SUMMARY:Master-Cup 2024
DESCRIPTION:
LOCATION:Sportplatz Werkleitz 39249 Barby / Tornitz
CATEGORIES:Kunst/ Kultur und Literatur,Sport/ Freizeit/ Gesundheit
URL:https://www.stadt-barby.de/de/veranstaltungsplan/event/20431,1084/master-cup-2024-28-09-2024.html
ATTACH:https://www.stadt-barby.de/de/datei/anzeigen/id/20432,1084/master-cup_2024.png
END:VEVENT
END:VCALENDAR
